BEGIN:VCALENDAR
VERSION:2.0
PRODID:-//Brandon Baptist Church - ECPv6.15.20//NONSGML v1.0//EN
CALSCALE:GREGORIAN
METHOD:PUBLISH
X-ORIGINAL-URL:https://www.brandonbaptist.org
X-WR-CALDESC:Events for Brandon Baptist Church
REFRESH-INTERVAL;VALUE=DURATION:PT1H
X-Robots-Tag:noindex
X-PUBLISHED-TTL:PT1H
BEGIN:VTIMEZONE
TZID:America/New_York
BEGIN:DAYLIGHT
TZOFFSETFROM:-0500
TZOFFSETTO:-0400
TZNAME:EDT
DTSTART:20250309T070000
END:DAYLIGHT
BEGIN:STANDARD
TZOFFSETFROM:-0400
TZOFFSETTO:-0500
TZNAME:EST
DTSTART:20251102T060000
END:STANDARD
BEGIN:DAYLIGHT
TZOFFSETFROM:-0500
TZOFFSETTO:-0400
TZNAME:EDT
DTSTART:20260308T070000
END:DAYLIGHT
BEGIN:STANDARD
TZOFFSETFROM:-0400
TZOFFSETTO:-0500
TZNAME:EST
DTSTART:20261101T060000
END:STANDARD
BEGIN:DAYLIGHT
TZOFFSETFROM:-0500
TZOFFSETTO:-0400
TZNAME:EDT
DTSTART:20270314T070000
END:DAYLIGHT
BEGIN:STANDARD
TZOFFSETFROM:-0400
TZOFFSETTO:-0500
TZNAME:EST
DTSTART:20271107T060000
END:STANDARD
END:VTIMEZONE
BEGIN:VEVENT
DTSTART;TZID=America/New_York:20260426T100000
DTEND;TZID=America/New_York:20260426T110000
DTSTAMP:20260423T130808
CREATED:20260126T195509Z
LAST-MODIFIED:20260126T195509Z
UID:19098-1777197600-1777201200@www.brandonbaptist.org
SUMMARY:Sunday School
DESCRIPTION:
URL:https://www.brandonbaptist.org/?tribe_events=sunday-school-12
END:VEVENT
BEGIN:VEVENT
DTSTART;TZID=America/New_York:20260426T110000
DTEND;TZID=America/New_York:20260426T120000
DTSTAMP:20260423T130808
CREATED:20260126T195608Z
LAST-MODIFIED:20260126T195608Z
UID:19123-1777201200-1777204800@www.brandonbaptist.org
SUMMARY:Worship Service
DESCRIPTION:
URL:https://www.brandonbaptist.org/?tribe_events=worship-service-13
END:VEVENT
BEGIN:VEVENT
DTSTART;TZID=America/New_York:20260503T100000
DTEND;TZID=America/New_York:20260503T110000
DTSTAMP:20260423T130808
CREATED:20260126T195524Z
LAST-MODIFIED:20260126T195524Z
UID:19099-1777802400-1777806000@www.brandonbaptist.org
SUMMARY:Sunday School
DESCRIPTION:
URL:https://www.brandonbaptist.org/?tribe_events=sunday-school-13
END:VEVENT
BEGIN:VEVENT
DTSTART;TZID=America/New_York:20260503T110000
DTEND;TZID=America/New_York:20260503T120000
DTSTAMP:20260423T130808
CREATED:20260126T195739Z
LAST-MODIFIED:20260126T195739Z
UID:19124-1777806000-1777809600@www.brandonbaptist.org
SUMMARY:Worship Service
DESCRIPTION:
URL:https://www.brandonbaptist.org/?tribe_events=worship-service-14
END:VEVENT
BEGIN:VEVENT
DTSTART;TZID=America/New_York:20260506T180000
DTEND;TZID=America/New_York:20260506T190000
DTSTAMP:20260423T130808
CREATED:20260126T195906Z
LAST-MODIFIED:20260420T123833Z
UID:19151-1778090400-1778094000@www.brandonbaptist.org
SUMMARY:Men's Bible Study
DESCRIPTION:
URL:https://www.brandonbaptist.org/?tribe_events=mens-bible-study-13
CATEGORIES:Small Groups
END:VEVENT
BEGIN:VEVENT
DTSTART;TZID=America/New_York:20260506T180000
DTEND;TZID=America/New_York:20260506T190000
DTSTAMP:20260423T130808
CREATED:20260126T195939Z
LAST-MODIFIED:20260420T124137Z
UID:19160-1778090400-1778094000@www.brandonbaptist.org
SUMMARY:Women's Bible Study
DESCRIPTION:
URL:https://www.brandonbaptist.org/?tribe_events=womens-bible-study-12
CATEGORIES:Small Groups
END:VEVENT
BEGIN:VEVENT
DTSTART;TZID=America/New_York:20260509T090000
DTEND;TZID=America/New_York:20260509T100000
DTSTAMP:20260423T130808
CREATED:20260126T200013Z
LAST-MODIFIED:20260420T124100Z
UID:19169-1778317200-1778320800@www.brandonbaptist.org
SUMMARY:Men's Prayer Breakfast
DESCRIPTION:
URL:https://www.brandonbaptist.org/?tribe_events=mens-prayer-meeting-4
END:VEVENT
BEGIN:VEVENT
DTSTART;TZID=America/New_York:20260510T100000
DTEND;TZID=America/New_York:20260510T110000
DTSTAMP:20260423T130808
CREATED:20260126T195524Z
LAST-MODIFIED:20260126T195524Z
UID:19100-1778407200-1778410800@www.brandonbaptist.org
SUMMARY:Sunday School
DESCRIPTION:
URL:https://www.brandonbaptist.org/?tribe_events=sunday-school-14
END:VEVENT
BEGIN:VEVENT
DTSTART;TZID=America/New_York:20260510T110000
DTEND;TZID=America/New_York:20260510T120000
DTSTAMP:20260423T130808
CREATED:20260126T195739Z
LAST-MODIFIED:20260126T195739Z
UID:19125-1778410800-1778414400@www.brandonbaptist.org
SUMMARY:Worship Service
DESCRIPTION:
URL:https://www.brandonbaptist.org/?tribe_events=worship-service-15
END:VEVENT
BEGIN:VEVENT
DTSTART;TZID=America/New_York:20260517T100000
DTEND;TZID=America/New_York:20260517T110000
DTSTAMP:20260423T130808
CREATED:20260126T195524Z
LAST-MODIFIED:20260126T195524Z
UID:19101-1779012000-1779015600@www.brandonbaptist.org
SUMMARY:Sunday School
DESCRIPTION:
URL:https://www.brandonbaptist.org/?tribe_events=sunday-school-15
END:VEVENT
BEGIN:VEVENT
DTSTART;TZID=America/New_York:20260517T110000
DTEND;TZID=America/New_York:20260517T120000
DTSTAMP:20260423T130808
CREATED:20260126T195739Z
LAST-MODIFIED:20260126T195739Z
UID:19126-1779015600-1779019200@www.brandonbaptist.org
SUMMARY:Worship Service
DESCRIPTION:
URL:https://www.brandonbaptist.org/?tribe_events=worship-service-16
END:VEVENT
BEGIN:VEVENT
DTSTART;TZID=America/New_York:20260517T120000
DTEND;TZID=America/New_York:20260517T130000
DTSTAMP:20260423T130808
CREATED:20260126T195451Z
LAST-MODIFIED:20260126T195451Z
UID:19082-1779019200-1779022800@www.brandonbaptist.org
SUMMARY:Pot Luck
DESCRIPTION:
URL:https://www.brandonbaptist.org/?tribe_events=pot-luck-4
END:VEVENT
BEGIN:VEVENT
DTSTART;TZID=America/New_York:20260520T180000
DTEND;TZID=America/New_York:20260520T190000
DTSTAMP:20260423T130808
CREATED:20260126T195906Z
LAST-MODIFIED:20260420T124209Z
UID:19152-1779300000-1779303600@www.brandonbaptist.org
SUMMARY:Men's Bible Study
DESCRIPTION:
URL:https://www.brandonbaptist.org/?tribe_events=mens-bible-study-14
CATEGORIES:Small Groups
END:VEVENT
BEGIN:VEVENT
DTSTART;TZID=America/New_York:20260520T180000
DTEND;TZID=America/New_York:20260520T190000
DTSTAMP:20260423T130808
CREATED:20260126T195939Z
LAST-MODIFIED:20260420T124306Z
UID:19161-1779300000-1779303600@www.brandonbaptist.org
SUMMARY:Women's Bible Study
DESCRIPTION:
URL:https://www.brandonbaptist.org/?tribe_events=womens-bible-study-13
CATEGORIES:Small Groups
END:VEVENT
BEGIN:VEVENT
DTSTART;TZID=America/New_York:20260524T100000
DTEND;TZID=America/New_York:20260524T110000
DTSTAMP:20260423T130808
CREATED:20260126T195524Z
LAST-MODIFIED:20260126T195524Z
UID:19102-1779616800-1779620400@www.brandonbaptist.org
SUMMARY:Sunday School
DESCRIPTION:
URL:https://www.brandonbaptist.org/?tribe_events=sunday-school-16
END:VEVENT
BEGIN:VEVENT
DTSTART;TZID=America/New_York:20260524T110000
DTEND;TZID=America/New_York:20260524T120000
DTSTAMP:20260423T130808
CREATED:20260126T195739Z
LAST-MODIFIED:20260126T195739Z
UID:19127-1779620400-1779624000@www.brandonbaptist.org
SUMMARY:Worship Service
DESCRIPTION:
URL:https://www.brandonbaptist.org/?tribe_events=worship-service-17
END:VEVENT
BEGIN:VEVENT
DTSTART;TZID=America/New_York:20260531T100000
DTEND;TZID=America/New_York:20260531T110000
DTSTAMP:20260423T130808
CREATED:20260126T195524Z
LAST-MODIFIED:20260126T195524Z
UID:19103-1780221600-1780225200@www.brandonbaptist.org
SUMMARY:Sunday School
DESCRIPTION:
URL:https://www.brandonbaptist.org/?tribe_events=sunday-school-17
END:VEVENT
BEGIN:VEVENT
DTSTART;TZID=America/New_York:20260531T110000
DTEND;TZID=America/New_York:20260531T120000
DTSTAMP:20260423T130808
CREATED:20260126T195739Z
LAST-MODIFIED:20260126T195739Z
UID:19128-1780225200-1780228800@www.brandonbaptist.org
SUMMARY:Worship Service
DESCRIPTION:
URL:https://www.brandonbaptist.org/?tribe_events=worship-service-18
END:VEVENT
BEGIN:VEVENT
DTSTART;TZID=America/New_York:20260603T180000
DTEND;TZID=America/New_York:20260603T190000
DTSTAMP:20260423T130808
CREATED:20260126T195906Z
LAST-MODIFIED:20260420T124335Z
UID:19153-1780509600-1780513200@www.brandonbaptist.org
SUMMARY:Men's Bible Study
DESCRIPTION:
URL:https://www.brandonbaptist.org/?tribe_events=mens-bible-study-15
CATEGORIES:Small Groups
END:VEVENT
BEGIN:VEVENT
DTSTART;TZID=America/New_York:20260603T180000
DTEND;TZID=America/New_York:20260603T190000
DTSTAMP:20260423T130808
CREATED:20260126T195939Z
LAST-MODIFIED:20260420T124452Z
UID:19162-1780509600-1780513200@www.brandonbaptist.org
SUMMARY:Women's Bible Study
DESCRIPTION:
URL:https://www.brandonbaptist.org/?tribe_events=womens-bible-study-14
CATEGORIES:Small Groups
END:VEVENT
BEGIN:VEVENT
DTSTART;TZID=America/New_York:20260607T100000
DTEND;TZID=America/New_York:20260607T110000
DTSTAMP:20260423T130808
CREATED:20260126T195538Z
LAST-MODIFIED:20260126T195538Z
UID:19104-1780826400-1780830000@www.brandonbaptist.org
SUMMARY:Sunday School
DESCRIPTION:
URL:https://www.brandonbaptist.org/?tribe_events=sunday-school-18
END:VEVENT
BEGIN:VEVENT
DTSTART;TZID=America/New_York:20260607T110000
DTEND;TZID=America/New_York:20260607T120000
DTSTAMP:20260423T130808
CREATED:20260126T195843Z
LAST-MODIFIED:20260126T195843Z
UID:19129-1780830000-1780833600@www.brandonbaptist.org
SUMMARY:Worship Service
DESCRIPTION:
URL:https://www.brandonbaptist.org/?tribe_events=worship-service-19
END:VEVENT
BEGIN:VEVENT
DTSTART;TZID=America/New_York:20260613T090000
DTEND;TZID=America/New_York:20260613T100000
DTSTAMP:20260423T130808
CREATED:20260126T200013Z
LAST-MODIFIED:20260126T200013Z
UID:19170-1781341200-1781344800@www.brandonbaptist.org
SUMMARY:Men's Prayer Meeting
DESCRIPTION:
URL:https://www.brandonbaptist.org/?tribe_events=mens-prayer-meeting-5
END:VEVENT
BEGIN:VEVENT
DTSTART;TZID=America/New_York:20260614T100000
DTEND;TZID=America/New_York:20260614T110000
DTSTAMP:20260423T130808
CREATED:20260126T195538Z
LAST-MODIFIED:20260126T195538Z
UID:19105-1781431200-1781434800@www.brandonbaptist.org
SUMMARY:Sunday School
DESCRIPTION:
URL:https://www.brandonbaptist.org/?tribe_events=sunday-school-19
END:VEVENT
BEGIN:VEVENT
DTSTART;TZID=America/New_York:20260614T110000
DTEND;TZID=America/New_York:20260614T120000
DTSTAMP:20260423T130808
CREATED:20260126T195843Z
LAST-MODIFIED:20260126T195843Z
UID:19130-1781434800-1781438400@www.brandonbaptist.org
SUMMARY:Worship Service
DESCRIPTION:
URL:https://www.brandonbaptist.org/?tribe_events=worship-service-20
END:VEVENT
BEGIN:VEVENT
DTSTART;TZID=America/New_York:20260621T100000
DTEND;TZID=America/New_York:20260621T110000
DTSTAMP:20260423T130808
CREATED:20260126T195538Z
LAST-MODIFIED:20260126T195538Z
UID:19106-1782036000-1782039600@www.brandonbaptist.org
SUMMARY:Sunday School
DESCRIPTION:
URL:https://www.brandonbaptist.org/?tribe_events=sunday-school-20
END:VEVENT
BEGIN:VEVENT
DTSTART;TZID=America/New_York:20260621T110000
DTEND;TZID=America/New_York:20260621T120000
DTSTAMP:20260423T130808
CREATED:20260126T195843Z
LAST-MODIFIED:20260126T195843Z
UID:19131-1782039600-1782043200@www.brandonbaptist.org
SUMMARY:Worship Service
DESCRIPTION:
URL:https://www.brandonbaptist.org/?tribe_events=worship-service-21
END:VEVENT
BEGIN:VEVENT
DTSTART;TZID=America/New_York:20260621T120000
DTEND;TZID=America/New_York:20260621T130000
DTSTAMP:20260423T130808
CREATED:20260126T195451Z
LAST-MODIFIED:20260126T195451Z
UID:19083-1782043200-1782046800@www.brandonbaptist.org
SUMMARY:Pot Luck
DESCRIPTION:
URL:https://www.brandonbaptist.org/?tribe_events=pot-luck-5
END:VEVENT
BEGIN:VEVENT
DTSTART;TZID=America/New_York:20260624T180000
DTEND;TZID=America/New_York:20260624T190000
DTSTAMP:20260423T130808
CREATED:20260126T195939Z
LAST-MODIFIED:20260126T195939Z
UID:19163-1782324000-1782327600@www.brandonbaptist.org
SUMMARY:Women's Bible Study
DESCRIPTION:
URL:https://www.brandonbaptist.org/?tribe_events=womens-bible-study-15
END:VEVENT
BEGIN:VEVENT
DTSTART;TZID=America/New_York:20260628T100000
DTEND;TZID=America/New_York:20260628T110000
DTSTAMP:20260423T130808
CREATED:20260126T195538Z
LAST-MODIFIED:20260126T195538Z
UID:19107-1782640800-1782644400@www.brandonbaptist.org
SUMMARY:Sunday School
DESCRIPTION:
URL:https://www.brandonbaptist.org/?tribe_events=sunday-school-21
END:VEVENT
END:VCALENDAR